BEGIN:VCALENDAR
VERSION:2.0
PRODID:Imitheme.com 
BEGIN:VEVENT
UID:20260425T1316421039570089
DTSTAMP;TZID=UTC:2026-04-25 13:16:42
DTSTART;TZID=America/Los_Angeles:20260425T131642
DTEND;TZID=America/Los_Angeles:20260425T131642
SUMMARY:American Urologists Association (AUA) 2024
LOCATION:USA
DESCRIPTION:Henry B. Gonzalez Convention Center, San Antonio, Texas
URL:https://events-log.com/eventer/american-urologists-association-aua-2024/
END:VEVENT
END:VCALENDAR
