BEGIN:VCALENDAR
VERSION:2.0
PRODID:Imitheme.com 
BEGIN:VEVENT
UID:20260420T013722874772113
DTSTAMP;TZID=UTC:2026-04-20 01:37:22
DTSTART;TZID=America/Los_Angeles:20260420T013722
DTEND;TZID=America/Los_Angeles:20260420T013722
SUMMARY:2nd Onco Zag Conference
LOCATION:Egypt
DESCRIPTION:Oncology Practice Challenges (OPC) Helnan Landmark Hotel in New Cairo, Egypt
URL:https://events-log.com/eventer/2nd-onco-zag-conference/
END:VEVENT
END:VCALENDAR
