BEGIN:VCALENDAR
VERSION:2.0
PRODID:Imitheme.com 
BEGIN:VEVENT
UID:20260420T0716311843801519
DTSTAMP;TZID=UTC:2026-04-20 07:16:31
DTSTART;TZID=America/Los_Angeles:20260420T071631
DTEND;TZID=America/Los_Angeles:20260420T071631
SUMMARY:8th Minia Pediatric Congress - 7th The Egyptian Society for Neonatal Health Care -ESNHC
LOCATION:Minia
DESCRIPTION:In collaboration with: Pediatric Department Misr El Hourra Hospital 16th July 2024 in Minia 17th - 20th July 2024 in Hurghada
URL:https://events-log.com/eventer/8th-minia-pediatric-congress-7th-the-egyptian-society-for-neonatal-health-care-esnhc/
END:VEVENT
END:VCALENDAR
