BEGIN:VCALENDAR
VERSION:2.0
PRODID:Imitheme.com 
BEGIN:VEVENT
UID:20260424T1737241388959411
DTSTAMP;TZID=UTC:2026-04-24 17:37:24
DTSTART;TZID=America/Los_Angeles:20260424T173724
DTEND;TZID=America/Los_Angeles:20260424T173724
SUMMARY:20th Vascular Society of Egypt International Annual Conference
LOCATION:Egypt
DESCRIPTION:in collaboration with 7th Annual Al-Azhar Vascular Surgery Conference Movenpick, Media city, Cairo
URL:https://events-log.com/eventer/20th-vascular-society-of-egypt-international-annual-conference/
END:VEVENT
END:VCALENDAR
