BEGIN:VCALENDAR
VERSION:2.0
PRODID:Imitheme.com 
BEGIN:VEVENT
UID:20260419T1826111720424003
DTSTAMP;TZID=UTC:2026-04-19 18:26:11
DTSTART;TZID=America/Los_Angeles:20260419T182611
DTEND;TZID=America/Los_Angeles:20260419T182611
SUMMARY:American Academy of Pediatrics 2024
LOCATION:USA
DESCRIPTION:Orange County Convention Center
URL:https://events-log.com/eventer/american-academy-of-pediatrics-2024/
END:VEVENT
END:VCALENDAR
