BEGIN:VCALENDAR
VERSION:2.0
PRODID:Imitheme.com 
BEGIN:VEVENT
UID:20260424T1935351733711190
DTSTAMP;TZID=UTC:2026-04-24 19:35:35
DTSTART;TZID=America/Los_Angeles:20260424T193535
DTEND;TZID=America/Los_Angeles:20260424T193535
SUMMARY:Research Institute of Ophthalmology - RIO2024
LOCATION:Egypt
DESCRIPTION:16th International Conference of the Research Institute of Ophthalmology Intercontinental City stars, Cairo, Egypt
URL:https://events-log.com/eventer/research-institute-of-ophthalmology-rio2024/
END:VEVENT
END:VCALENDAR
