BEGIN:VCALENDAR
VERSION:2.0
PRODID:Imitheme.com 
BEGIN:VEVENT
UID:20260419T1834101441636977
DTSTAMP;TZID=UTC:2026-04-19 18:34:10
DTSTART;TZID=America/Los_Angeles:20260419T183410
DTEND;TZID=America/Los_Angeles:20260419T183410
SUMMARY:International Conference on 2nd World Congress on Gynecology and Women Health - WCGWH-2024
LOCATION:UAE
DESCRIPTION:
URL:https://events-log.com/eventer/international-conference-on-2nd-world-congress-on-gynecology-and-women-health-wcgwh-2024/
END:VEVENT
END:VCALENDAR
