BEGIN:VCALENDAR
VERSION:2.0
PRODID:Imitheme.com 
BEGIN:VEVENT
UID:20260424T0705132132299599
DTSTAMP;TZID=UTC:2026-04-24 07:05:13
DTSTART;TZID=America/Los_Angeles:20260424T070513
DTEND;TZID=America/Los_Angeles:20260424T070513
SUMMARY:The 2nd Scientific Meeting of Physio and Nutri For Her
LOCATION:Egypt
DESCRIPTION:Princess Fatma Academy - Cairo
URL:https://events-log.com/eventer/the-2nd-scientific-meeting-of-physio-and-nutri-for-her/
END:VEVENT
END:VCALENDAR
