BEGIN:VCALENDAR
VERSION:2.0
PRODID:Imitheme.com 
BEGIN:VEVENT
UID:20260421T212042158689894
DTSTAMP;TZID=UTC:2026-04-21 21:20:42
DTSTART;TZID=America/Los_Angeles:20260421T212042
DTEND;TZID=America/Los_Angeles:20260421T212042
SUMMARY:2024 AAD Annual Meeting
LOCATION:USA
DESCRIPTION:American Academy of Dermatology San Diego Convention Center
URL:https://events-log.com/eventer/2024-aad-annual-meeting/
END:VEVENT
END:VCALENDAR
