BEGIN:VCALENDAR
VERSION:2.0
PRODID:Imitheme.com 
BEGIN:VEVENT
UID:20260423T11401034383767
DTSTAMP;TZID=UTC:2026-04-23 11:40:10
DTSTART;TZID=America/Los_Angeles:20260423T114010
DTEND;TZID=America/Los_Angeles:20260423T114010
SUMMARY:2nd United conference of Psychiatry departments - Al Azhar University
LOCATION:Egypt
DESCRIPTION:Multidimensional Approaches To Psychiatry Tolip Golden Plaza Hotel
URL:https://events-log.com/eventer/2nd-united-conference-of-psychiatry-departments-al-azhar-university/
END:VEVENT
END:VCALENDAR
