BEGIN:VCALENDAR
VERSION:2.0
PRODID:Imitheme.com 
BEGIN:VEVENT
UID:20260423T1550161171418836
DTSTAMP;TZID=UTC:2026-04-23 15:50:16
DTSTART;TZID=America/Los_Angeles:20260423T155016
DTEND;TZID=America/Los_Angeles:20260423T155016
SUMMARY:4th wave of Kasr Al-Ainy ESD and 3rd Space Endoscopy Basic Course (KEBC)
LOCATION:Egypt
DESCRIPTION:LRC Hall in Al Kasr Al Ainy Faculty of Medicine Cairo University
URL:https://events-log.com/eventer/4th-wave-of-kasr-al-ainy-esd-and-3rd-space-endoscopy-basic-course-kebc/
END:VEVENT
END:VCALENDAR
