BEGIN:VCALENDAR
VERSION:2.0
PRODID:Imitheme.com 
BEGIN:VEVENT
UID:20260422T2148501430401014
DTSTAMP;TZID=UTC:2026-04-22 21:48:50
DTSTART;TZID=America/Los_Angeles:20260422T214850
DTEND;TZID=America/Los_Angeles:20260422T214850
SUMMARY:Retina International World Congress (RIWC24)
LOCATION:
DESCRIPTION:Fighting Blindness Retina International Dublin Royal Convention Centre, Radisson Blu Royal Hotel, Dublin
URL:https://events-log.com/eventer/retina-international-world-congress-riwc24/
END:VEVENT
END:VCALENDAR
