BEGIN:VCALENDAR
VERSION:2.0
PRODID:Imitheme.com 
BEGIN:VEVENT
UID:20260420T184138777929499
DTSTAMP;TZID=UTC:2026-04-20 18:41:38
DTSTART;TZID=America/Los_Angeles:20260420T184138
DTEND;TZID=America/Los_Angeles:20260420T184138
SUMMARY:EGVRS Case Club: How Do I Image My Decision?
LOCATION:Virtual
DESCRIPTION:Sofitel Cairo Nile El Gezirah, Egypt. Please note that Seats are limited. If you register, we kindly ask that you ensure your attendance to allow as many interested individuals as possible to participate. Sponsored by Roche
URL:https://events-log.com/eventer/egvrs-case-club-how-do-i-image-my-decision/
END:VEVENT
END:VCALENDAR
