BEGIN:VCALENDAR
VERSION:2.0
PRODID:Imitheme.com 
BEGIN:VEVENT
UID:20260420T025954847990538
DTSTAMP;TZID=UTC:2026-04-20 02:59:54
DTSTART;TZID=America/Los_Angeles:20260420T025954
DTEND;TZID=America/Los_Angeles:20260420T025954
SUMMARY:13th international congress of SPIC-EGYPT
LOCATION:Egypt
DESCRIPTION:Novotel Cairo Airport Hotel, Cairo
URL:https://events-log.com/eventer/13th-international-congress-of-spic-egypt/
END:VEVENT
END:VCALENDAR
